BEGIN:VCALENDAR
VERSION:2.0
PRODID:-//Die Tiroler Alpenbummler - - ECPv5.16.4//NONSGML v1.0//EN
CALSCALE:GREGORIAN
METHOD:PUBLISH
X-WR-CALNAME:Die Tiroler Alpenbummler -
X-ORIGINAL-URL:https://alpenbummler.at
X-WR-CALDESC:Veranstaltungen für Die Tiroler Alpenbummler -
BEGIN:VTIMEZONE
TZID:Europe/Berlin
BEGIN:DAYLIGHT
TZOFFSETFROM:+0100
TZOFFSETTO:+0200
TZNAME:CEST
DTSTART:20220327T010000
END:DAYLIGHT
BEGIN:STANDARD
TZOFFSETFROM:+0200
TZOFFSETTO:+0100
TZNAME:CET
DTSTART:20221030T010000
END:STANDARD
END:VTIMEZONE
BEGIN:VEVENT
DTSTART;TZID=Europe/Berlin:20220911T110000
DTEND;TZID=Europe/Berlin:20220911T160000
DTSTAMP:20260420T160325
CREATED:20220502T165403Z
LAST-MODIFIED:20220531T162202Z
UID:1923-1662894000-1662912000@alpenbummler.at
SUMMARY:Frühschoppen der Bock Pass
DESCRIPTION:Traditioneller Frühschoppen der Bock Pass beim Musikpavillon Reith i.A.
URL:https://alpenbummler.at/event/fruehschoppen-der-bock-pass/
LOCATION:6235 Reith i.A.\, Tirol\, Österreich
END:VEVENT
END:VCALENDAR