BEGIN:VCALENDAR
VERSION:2.0
PRODID:-//Die Tiroler Alpenbummler - - ECPv5.16.4//NONSGML v1.0//EN
CALSCALE:GREGORIAN
METHOD:PUBLISH
X-WR-CALNAME:Die Tiroler Alpenbummler -
X-ORIGINAL-URL:https://alpenbummler.at
X-WR-CALDESC:Veranstaltungen für Die Tiroler Alpenbummler -
BEGIN:VTIMEZONE
TZID:Europe/Berlin
BEGIN:DAYLIGHT
TZOFFSETFROM:+0100
TZOFFSETTO:+0200
TZNAME:CEST
DTSTART:20220327T010000
END:DAYLIGHT
BEGIN:STANDARD
TZOFFSETFROM:+0200
TZOFFSETTO:+0100
TZNAME:CET
DTSTART:20221030T010000
END:STANDARD
END:VTIMEZONE
BEGIN:VEVENT
DTSTART;TZID=Europe/Berlin:20220709T200000
DTEND;TZID=Europe/Berlin:20220710T010000
DTSTAMP:20260422T112953
CREATED:20220310T170612Z
LAST-MODIFIED:20220310T170612Z
UID:1883-1657396800-1657414800@alpenbummler.at
SUMMARY:Tennenfest Baumkirchen
DESCRIPTION:Tennenfest von der Brauchtumsgruppe Baumkirchen. \n 
URL:https://alpenbummler.at/event/tennenfest-baumkirchen/
LOCATION:Baumkirchen\, Sportplatz\, Baumkirchen\, Tirol\, 6121\, Österreich
END:VEVENT
END:VCALENDAR